BEGIN:VCALENDAR
PRODID:-//eluceo/ical//2.0/EN
VERSION:2.0
CALSCALE:GREGORIAN
BEGIN:VEVENT
UID:5ea9c5830c4601f657c03697ff9f985e
DTSTAMP:20260422T141439Z
SUMMARY:Hanukkah Asian Dinner and a Movie Night
DESCRIPTION:Jewish Federation of New Hampshire\nCommunity Calendar\nhttps:/
 /jewishnh.org/community-calendar/hanukkah-asian-dinner-and-a-movie-night-1
 668126687\n\nPlease join Temple Israel Portsmouth for Havdalah in the soci
 al hall\, followed by Hanukkah candle lighting\, then a vegetarian Asian d
 inner and a movie! Preregistration required.
DTSTART;TZID=America/New_York:20221224T173000
DTEND;TZID=America/New_York:20221224T203000
END:VEVENT
END:VCALENDAR
