BEGIN:VCALENDAR
PRODID:-//eluceo/ical//2.0/EN
VERSION:2.0
CALSCALE:GREGORIAN
BEGIN:VEVENT
UID:494f6fe4e34324501fd5488591a8f611
DTSTAMP:20260423T022646Z
SUMMARY:Hanukkah Musical Adventure
DESCRIPTION:Jewish Federation of New Hampshire\nCommunity Calendar\nhttps:/
 /jewishnh.org/community-calendar/hanukkah-musical-adventure\n\nAn interact
 ive performance for kids of all ages by Carla Friend of Tkiya\, featuring 
 communal candle-lighting\, singing\, menorah parade\, and sufganiyot. All 
 are welcome\; co-sponsored by PJ Library.
DTSTART;TZID=America/New_York:20211201T164500
DTEND;TZID=America/New_York:20211201T180000
END:VEVENT
END:VCALENDAR
