BEGIN:VCALENDAR
PRODID:-//eluceo/ical//2.0/EN
VERSION:2.0
CALSCALE:GREGORIAN
BEGIN:VEVENT
UID:8ce7bf17098349cf308d8f907ef9bc8e
DTSTAMP:20260423T222852Z
SUMMARY:Hanukkah Service and Celebration
DESCRIPTION:Jewish Federation of New Hampshire\nCommunity Calendar\nhttps:/
 /jewishnh.org/community-calendar/hanukkah-service-and-celebration-16051910
 31\n\nThis is a virtual event.  Participants are invited to bring a menora
 h and candles to light with the group.
DTSTART;TZID=America/New_York:20201211T193000
DTEND;TZID=America/New_York:20201211T210000
END:VEVENT
END:VCALENDAR
