BEGIN:VCALENDAR
PRODID:-//eluceo/ical//2.0/EN
VERSION:2.0
CALSCALE:GREGORIAN
BEGIN:VEVENT
UID:dbe9d4695b2d0df17a47cfb316be0ac8
DTSTAMP:20260423T215447Z
SUMMARY:Hanukkah Tot Shabbat
DESCRIPTION:Jewish Federation of New Hampshire\nCommunity Calendar\nhttps:/
 /jewishnh.org/community-calendar/hanukkah-tot-shabbat-1668127155\n\nPlease
  join us in Temple Israel Portsmouth's garden courtyard on the sixth night
  of Hanukkah to light candles in the "Hands of Hope" menorah created by sc
 ulptor Sumner Winebaum. Candle lighting will be led by Rabba Kaya as part 
 of a special Hanukkah-themed Tot Shabbat program geared at young children 
 and their families. All are welcome.\n\nIn case of inclement weather\, can
 dle lighting will take place indoors\, in the Shmoozatorium.\n\nKindly reg
 ister via the website calendar: https://templeisr...
DTSTART;TZID=America/New_York:20221223T153000
DTEND;TZID=America/New_York:20221223T173000
END:VEVENT
END:VCALENDAR
