BEGIN:VCALENDAR
PRODID:-//eluceo/ical//2.0/EN
VERSION:2.0
CALSCALE:GREGORIAN
BEGIN:VEVENT
UID:a0b64c856e74bad3a3d3aeb90c37d218
DTSTAMP:20260423T055753Z
SUMMARY:Hate Crimes Training
DESCRIPTION:Jewish Federation of New Hampshire\nCommunity Calendar\nhttps:/
 /jewishnh.org/community-calendar/hate-crimes-training-1608241505\n\nFour d
 istinguished panelists will speak on the prosecution of hate crimes in NH 
 and the difference between hate crimes and hateful incidents.  The panelis
 ts are: \n1. Arusha Gordon\, Associate Director of the Center\, and  Kieai
 ra Lucas\, Project Assistant\, of the  James Byrd Jr. Center to Stop Hate 
 at the Lawyers’ Committee for Civil Rights under the Law.   Ms. Gordon p
 lans to cover what a federal hate crime is and who is protected under fede
 ral law.  She will also discuss the difference...
DTSTART;TZID=America/New_York:20210304T180000
DTEND;TZID=America/New_York:20210304T193000
END:VEVENT
END:VCALENDAR
