BEGIN:VCALENDAR
PRODID:-//eluceo/ical//2.0/EN
VERSION:2.0
CALSCALE:GREGORIAN
BEGIN:VEVENT
UID:784fb4d959b1cc45bd6508a08dece331
DTSTAMP:20260422T112309Z
SUMMARY:Havdalah & Movie Night: The Mad Adventures of "Rabbi" Jacob
DESCRIPTION:Jewish Federation of New Hampshire\nCommunity Calendar\nhttps:/
 /jewishnh.org/community-calendar/havdalah--movie-night-the-mad-adventures-
 of-rabbi-jacob-1581374733\n\nWe'll conclude Shabbat by making Havdalah at 
 6:45 p.m.\, then show the film at 7:00 p.m.\n\nGet in the mood for Purim b
 y watching this hilarious cult classic. Louis de Funes\, France's all-time
  favorite actor\, known for his high-energy performances and wide range of
  facial expressions\, stars in a story of disguises and concealed identiti
 es\, attempted murder and mayhem. We'll supply the popcorn\; you supply th
 e laughs.
DTSTART;TZID=America/New_York:20200307T184500
DTEND;TZID=America/New_York:20200307T210000
END:VEVENT
END:VCALENDAR
