BEGIN:VCALENDAR
PRODID:-//eluceo/ical//2.0/EN
VERSION:2.0
CALSCALE:GREGORIAN
BEGIN:VEVENT
UID:6706a6f95f7c1b382f7f8d97da545d8b
DTSTAMP:20260422T044112Z
SUMMARY:Havdalah and S'mores
DESCRIPTION:Jewish Federation of New Hampshire\nCommunity Calendar\nhttps:/
 /jewishnh.org/community-calendar/havdalah-and-smores-1571950190\n\nCamp Ga
 n Israel and Chabad Hebrew School invite young families to Havdalah and S'
 mores- Under the Stars!Join us at the magical home and garden of Karen and
  Keith Melaas\, in Bedford\, NH. They'll light up a magnificent fire so we
  can enjoy s'mores and songs after Havdalah. Dress warm\, and bring blanke
 ts.Please RSVP for the address! Chanchie@ChabadofNH.com
DTSTART;TZID=America/New_York:20191109T183000
DTEND;TZID=America/New_York:20191109T201500
END:VEVENT
END:VCALENDAR
