BEGIN:VCALENDAR
PRODID:-//eluceo/ical//2.0/EN
VERSION:2.0
CALSCALE:GREGORIAN
BEGIN:VEVENT
UID:ae51c7d3cb0247fa6f03a5c255c307c2
DTSTAMP:20260423T011621Z
SUMMARY:Havdalah: Family Ice Cream and Bowling
DESCRIPTION:Jewish Federation of New Hampshire\nCommunity Calendar\nhttps:/
 /jewishnh.org/community-calendar/havdalah-family-ice-cream-and-bowling-166
 8128112\n\nPlease join Temple Israel Portsmouth for an evening of family f
 un!\n\nKindly register to receive event updates and alerts in case of incl
 ement weather: https://templeisraelnh.shulcloud.com/event/havdalah-ice-cre
 am--bowling.html
DTSTART;TZID=America/New_York:20230121T173000
DTEND;TZID=America/New_York:20230121T200000
END:VEVENT
END:VCALENDAR
