BEGIN:VCALENDAR
PRODID:-//eluceo/ical//2.0/EN
VERSION:2.0
CALSCALE:GREGORIAN
BEGIN:VEVENT
UID:d97b5ba1f25a175ec88c7e603244e894
DTSTAMP:20260423T031219Z
SUMMARY:Havdalah Game Night at Temple Israel
DESCRIPTION:Jewish Federation of New Hampshire\nCommunity Calendar\nhttps:/
 /jewishnh.org/community-calendar/havdalah-game-night-1570744095\n\nFamily 
 fun with Havdalah Game night and a meal! RSVP required by noon on Monday\,
  Nov. 4.
DTSTART;TZID=America/New_York:20191116T170000
DTEND;TZID=America/New_York:20191116T190000
END:VEVENT
END:VCALENDAR
