BEGIN:VCALENDAR
PRODID:-//eluceo/ical//2.0/EN
VERSION:2.0
CALSCALE:GREGORIAN
BEGIN:VEVENT
UID:2a2587f3da8e8a30aa109cde7f628aac
DTSTAMP:20260424T173824Z
SUMMARY:Havdalah Service * Dinner
DESCRIPTION:Jewish Federation of New Hampshire\nCommunity Calendar\nhttps:/
 /jewishnh.org/community-calendar/havdalah-service--dinner-1671717805\n\nAn
  rsvp is required by noon Feb 3 for this family friendly event marking the
  end of Shabbat.
DTSTART;TZID=America/New_York:20230204T180000
DTEND;TZID=America/New_York:20230204T200000
END:VEVENT
END:VCALENDAR
