BEGIN:VCALENDAR
PRODID:-//eluceo/ical//2.0/EN
VERSION:2.0
CALSCALE:GREGORIAN
BEGIN:VEVENT
UID:e4720f4bcc3ef95bf5fd9b191b857e38
DTSTAMP:20260423T032325Z
SUMMARY:Havdalah Tu B'Shvat Family Program
DESCRIPTION:Jewish Federation of New Hampshire\nCommunity Calendar\nhttps:/
 /jewishnh.org/community-calendar/havdalah-tu-bshvat-family-program-1704726
 810\n\nJoin fellow families with children for a fun afternoon celebrating 
 Havdalah with a Tu B'Shvat theme!\n\nSchedule:\n\n\n4:00 - 5:00 pm  -- Yo
 ung Children Activity led by Nature Educator Rina Zampieron\n5:00 - 5:30 p
 m  -- Pizza Dinner\n5:35 pm -- Havdalah\n5:45 pm - Movie & Popcorn: “Fe
 rnGully: The Last Rainforest”
DTSTART;TZID=America/New_York:20240127T160000
DTEND;TZID=America/New_York:20240127T193000
END:VEVENT
END:VCALENDAR
