BEGIN:VCALENDAR
PRODID:-//eluceo/ical//2.0/EN
VERSION:2.0
CALSCALE:GREGORIAN
BEGIN:VEVENT
UID:6116c566f80320892533651cfe050db8
DTSTAMP:20260423T114411Z
SUMMARY:'Havdallah on the Lake' Cruise presented by Temple B'nai Israel
DESCRIPTION:Jewish Federation of New Hampshire\nCommunity Calendar\nhttps:/
 /jewishnh.org/community-calendar/havdallah-on-the-lake-cruise-presented-by
 -temple-bnai-israel-1559319872\n\nThis is a very special Havdallah service
  on Lake Winnipesaukee for the entire Jewish Community of New Hampshire. M
 elody Funk\, Temple B'nai Israel's cantorial soloist will lead the service
  and singing as all those on board the M/V Doris E\, sail from the Weirs B
 each docks in Laconia\, promptly at 8pm\, returning at 10pm. If you've nev
 er experienced lighting the Havdallah candle\, smelling spices\, and singi
 ng traditional Havdallah songs under the starts on Lake Winnipesaukee\, th
 is is the time to...
DTSTART;TZID=America/New_York:20190803T193000
DTEND;TZID=America/New_York:20190803T213000
END:VEVENT
END:VCALENDAR
