BEGIN:VCALENDAR
PRODID:-//eluceo/ical//2.0/EN
VERSION:2.0
CALSCALE:GREGORIAN
BEGIN:VEVENT
UID:90936a191daae1f4c549c4ce0881fd05
DTSTAMP:20260422T095248Z
SUMMARY:Healing the Holy Land - Interreligious Peacebuilding in Israel-Pale
 stine
DESCRIPTION:Jewish Federation of New Hampshire\nCommunity Calendar\nhttps:/
 /jewishnh.org/community-calendar/healing-the-holy-land---interreligious-pe
 acebuilding-in-israel-palestine-1565713776\n\nDr Yehezkel Landau\, reknown
 ed scholar and peace builder\, is coming to Temple Beth Abraham September 
 4th at 8 pm.\n\nA duel Israel-American citizen\, Dr. Landau\, is an interf
 aith educator\, leadership trainer\, author\, and consultant working for o
 ver 35 years to promote Jewish-Christian-Muslim engagement and Israeli-Pal
 estinian peace building. He will speak about the the organizations he has 
 helped found\, as well as the books he has authored and co-edited.\n\nHe l
 ectures internationally on interf...
DTSTART;TZID=America/New_York:20190904T200000
DTEND;TZID=America/New_York:20190904T210000
END:VEVENT
END:VCALENDAR
