BEGIN:VCALENDAR
PRODID:-//eluceo/ical//2.0/EN
VERSION:2.0
CALSCALE:GREGORIAN
BEGIN:VEVENT
UID:c4ed56034e00163d532e2e94e9d242d5
DTSTAMP:20260422T111320Z
SUMMARY:Hear about the Berger Family Volunteer Mission to Israel
DESCRIPTION:Jewish Federation of New Hampshire\nCommunity Calendar\nhttps:/
 /jewishnh.org/community-calendar/hear-about-the-berger-family-volunteer-mi
 ssion-to-israel-1704931333\n\nIn person at JFNH office or Zoom
DTSTART;TZID=America/New_York:20240121T190000
DTEND;TZID=America/New_York:20240121T210000
END:VEVENT
END:VCALENDAR
