BEGIN:VCALENDAR
PRODID:-//eluceo/ical//2.0/EN
VERSION:2.0
CALSCALE:GREGORIAN
BEGIN:VEVENT
UID:6ede975c393f607e5d17bf245f7a82df
DTSTAMP:20260422T213031Z
SUMMARY:Heartsaver CPR & AED TRaining Blended Option
DESCRIPTION:Jewish Federation of New Hampshire\nCommunity Calendar\nhttps:/
 /jewishnh.org/community-calendar/heartsaver-cpr--aed-training-blended-opti
 on-1579630471\n\nTuesday\, February 4 or Sunday\, February 9\n\nHeartsaver
  CPR/AED training is being offered to the TBA membership by an American He
 art Association-certified educator. CPR is cardiopulmonary resuscitation a
 nd AED is automatic external defibrillator.\n\nTwo training methods are av
 ailable: a blended learning combining on-line and in-person training\, and
  a classroom-only training.\n\nHeartsaver CPR/AED is geared for anyone wit
 h limited or no medical training. After successful completion of the trai.
 ..
DTSTART;TZID=America/New_York:20200204T180000
DTEND;TZID=America/New_York:20200204T193000
END:VEVENT
END:VCALENDAR
