BEGIN:VCALENDAR
PRODID:-//eluceo/ical//2.0/EN
VERSION:2.0
CALSCALE:GREGORIAN
BEGIN:VEVENT
UID:f881b02072b86709dda490157f3dbe06
DTSTAMP:20260422T142540Z
SUMMARY:Hebrew Calligraphy Workshop
DESCRIPTION:Jewish Federation of New Hampshire\nCommunity Calendar\nhttps:/
 /jewishnh.org/community-calendar/hebrew-calligraphy-workshop\n\nMake a dec
 orated word in Hebrew calligraphy to take home. The word can be someone's 
 name or simply "Israel" or "Shalom"\, etc. Donation of $5 towards material
 s. Please register with Sue West at overbywest@gmail.com\n\n 
DTSTART;TZID=America/New_York:20180405T180000
DTEND;TZID=America/New_York:20180405T200000
END:VEVENT
END:VCALENDAR
