BEGIN:VCALENDAR
PRODID:-//eluceo/ical//2.0/EN
VERSION:2.0
CALSCALE:GREGORIAN
BEGIN:VEVENT
UID:f8ec97303977847a611b9d183c8ead34
DTSTAMP:20260423T160320Z
SUMMARY:Hebrew Cemetery Service
DESCRIPTION:Jewish Federation of New Hampshire\nCommunity Calendar\nhttps:/
 /jewishnh.org/community-calendar/hebrew-cemetery-service-1690552214\n\nMem
 orial Service
DTSTART;TZID=America/New_York:20230910T100000
DTEND;TZID=America/New_York:20230910T110000
END:VEVENT
END:VCALENDAR
