BEGIN:VCALENDAR
PRODID:-//eluceo/ical//2.0/EN
VERSION:2.0
CALSCALE:GREGORIAN
BEGIN:VEVENT
UID:1dd744841685240dfe3480d583a6e40a
DTSTAMP:20260423T172119Z
SUMMARY:Temple Israel HeBrew Happy Hour
DESCRIPTION:Jewish Federation of New Hampshire\nCommunity Calendar\nhttps:/
 /jewishnh.org/community-calendar/hebrew-happy-hour-1701971915\n\nJoin othe
 r members of the Manchester Jewish community fellowship and fun
DTSTART;TZID=America/New_York:20240118T180000
DTEND;TZID=America/New_York:20240118T200000
END:VEVENT
END:VCALENDAR
