BEGIN:VCALENDAR
PRODID:-//eluceo/ical//2.0/EN
VERSION:2.0
CALSCALE:GREGORIAN
BEGIN:VEVENT
UID:57fab6cb913fc6b028ea1facc0e5c4db
DTSTAMP:20260423T104155Z
SUMMARY:Hershel and the Hanukkah Goblins
DESCRIPTION:Jewish Federation of New Hampshire\nCommunity Calendar\nhttps:/
 /jewishnh.org/community-calendar/hershel-and-the\n\nWritten by Eric Kimmel
  and illustrated by Trina Schart Hyman.  The text of this play  was firs
 t published in 1985 in Cricket magazine for children and the illustrated b
 ook in 1989. Hershel has delighted children and adults since and has beco
 me a yearly read for Hanukkah in millions of households. \n\nHershel of O
 stropol (Ukraine)\, traveling by foot on the first night of Hanukkah\, arr
 ives in a darkened village.  He had expected to enjoy the festive lights\
 , food\, and joy of Hanukkah but in...
DTSTART;TZID=America/New_York:20211203T190000
DTEND;TZID=America/New_York:20211203T210000
END:VEVENT
END:VCALENDAR
