BEGIN:VCALENDAR
PRODID:-//eluceo/ical//2.0/EN
VERSION:2.0
CALSCALE:GREGORIAN
BEGIN:VEVENT
UID:336054d44eec61af2d081c8ce1eccae9
DTSTAMP:20260422T232632Z
SUMMARY:Hershel and the Hanukkah Goblins
DESCRIPTION:Jewish Federation of New Hampshire\nCommunity Calendar\nhttps:/
 /jewishnh.org/community-calendar/hershel-and-the-hanukkah-goblins\n\nThe S
 ynagogue sits at the edge of town\, dark and in disrepair. When \nHershel 
 begins to ask questions\, he learns that the goblins have taken \nup resid
 ence there. Every year\, the goblins blow out the menorah \ncandles\, the 
 townspeople have given up.
DTSTART;TZID=America/New_York:20201122T140000
DTEND;TZID=America/New_York:20201122T160000
END:VEVENT
END:VCALENDAR
