BEGIN:VCALENDAR
PRODID:-//eluceo/ical//2.0/EN
VERSION:2.0
CALSCALE:GREGORIAN
BEGIN:VEVENT
UID:5200abf838d86b692e295cfb3615e6cb
DTSTAMP:20260422T193819Z
SUMMARY:Hershel and the Hanukkah Goblins
DESCRIPTION:Jewish Federation of New Hampshire\nCommunity Calendar\nhttps:/
 /jewishnh.org/community-calendar/hershel-and-the-hanukkah-goblins2023\n\nB
 ack by popular demand\, Manchester Community Theatre Players’ staging of
  Hershel and the Hanukkah Goblins will be available to stream at your leis
 ure all throughout Hanukkah. Adapted for stage by Dr. Alan D. Kaplan from 
 the book by Eric Kimmel. Tickets are $20 per device\, and can be purchased
  by going to http://www.mctp.info. \n\nStarring veteran NH actor George P
 iehl in the title role\, this adaptation (sponsored by Temple Adath Yeshur
 un) is sure to be an annual favorite. Invite friends ov...
DTSTART;TZID=America/New_York:20231206T000000
DTEND;TZID=America/New_York:20231213T000000
END:VEVENT
END:VCALENDAR
