BEGIN:VCALENDAR
PRODID:-//eluceo/ical//2.0/EN
VERSION:2.0
CALSCALE:GREGORIAN
BEGIN:VEVENT
UID:fadac83ddd456bfce6d11c961516d374
DTSTAMP:20260424T145743Z
SUMMARY:Hershel and the Hanukkah Goblins
DESCRIPTION:Jewish Federation of New Hampshire\nCommunity Calendar\nhttps:/
 /jewishnh.org/community-calendar/hershel-and-the-hanukkah-goblins3\n\nWrit
 ten by Eric Kimmel and illustrated by Trina Schart Hyman.  The text of th
 is play  was first published in 1985 in Cricket magazine for children and
  the illustrated book in 1989. Hershel has delighted children and adults
  since and has become a yearly read for Hanukkah in millions of households
 . \n\nHershel of Ostropol (Ukraine)\, traveling by foot on the first nigh
 t of Hanukkah\, arrives in a darkened village.  He had expected to enjoy 
 the festive lights\, food\, and joy of Hanukkah but i...
DTSTART;TZID=America/New_York:20211205T140000
DTEND;TZID=America/New_York:20211205T160000
END:VEVENT
END:VCALENDAR
