BEGIN:VCALENDAR
PRODID:-//eluceo/ical//2.0/EN
VERSION:2.0
CALSCALE:GREGORIAN
BEGIN:VEVENT
UID:6cfce2c6330e50d3c838cbdd43de0c2f
DTSTAMP:20260422T131356Z
SUMMARY:High Holy Day Warm-up
DESCRIPTION:Jewish Federation of New Hampshire\nCommunity Calendar\nhttps:/
 /jewishnh.org/community-calendar/high-holy-day-warm-up-1692025276\n\nJoin 
 TAY as we warm-up for High Holy Day Services.
DTSTART;TZID=America/New_York:20230908T190000
DTEND;TZID=America/New_York:20230908T203000
END:VEVENT
END:VCALENDAR
