BEGIN:VCALENDAR
PRODID:-//eluceo/ical//2.0/EN
VERSION:2.0
CALSCALE:GREGORIAN
BEGIN:VEVENT
UID:56459a56d309b3d9116152949f829169
DTSTAMP:20260424T141010Z
SUMMARY:Hineni: Jewish Mindfulness Retreat
DESCRIPTION:Jewish Federation of New Hampshire\nCommunity Calendar\nhttps:/
 /jewishnh.org/community-calendar/hineni-jewish-mindfulness-retreat\n\nThe
  second annual Hineni* retreat is a day-and-a-half of mindfulness medita
 tion for Jewish\, Jewish-adjacent\, and curious individuals from all backg
 rounds. It is open and appropriate for experienced and new meditators alik
 e.\n\nTaught by Rabbi Seth Castleman\, the retreat is produced by Ohavi Ze
 dek Synagogue and will be held at the Burlington Friends Meeting House.\n\
 nThe retreat will have interspersed periods of silence\, along with sittin
 g meditation\, walking meditation\, guided meditation\, e...
DTSTART;TZID=America/New_York:20250110T000000
DTEND;TZID=America/New_York:20250111T235959
END:VEVENT
END:VCALENDAR
