BEGIN:VCALENDAR
PRODID:-//eluceo/ical//2.0/EN
VERSION:2.0
CALSCALE:GREGORIAN
BEGIN:VEVENT
UID:d286960dad562c0b5f57c7fc3d9fcd53
DTSTAMP:20260424T142857Z
SUMMARY:Historical Perspectives on Chanukkah
DESCRIPTION:Jewish Federation of New Hampshire\nCommunity Calendar\nhttps:/
 /jewishnh.org/community-calendar/historical-perspectives-on-chanukkah-1575
 398166\n\nHistorical Perspectives on Chanukkah: Lunch & Learn With Congreg
 ant Mike Harris\n\nWhat is the real story of the events that we commemorat
 e at Chanukah? The truth is more complicated than the story we learned as 
 children and has significant relevance to contemporary events.
DTSTART;TZID=America/New_York:20191207T123000
DTEND;TZID=America/New_York:20191207T140000
END:VEVENT
END:VCALENDAR
