BEGIN:VCALENDAR
PRODID:-//eluceo/ical//2.0/EN
VERSION:2.0
CALSCALE:GREGORIAN
BEGIN:VEVENT
UID:369741ee5c81aa74010fdbb02cde095f
DTSTAMP:20260422T223942Z
SUMMARY:“History and the Kuznetskys\, a German Jewish Family during World
  War II”
DESCRIPTION:Jewish Federation of New Hampshire\nCommunity Calendar\nhttps:/
 /jewishnh.org/community-calendar/history-and-the-kuznetskys-a-german-jewis
 h-family-during-world-war-ii-1649612023\n\nRon Bruckman grew up in Rocklan
 d County\, NY and Hartford\, CT. the son of two German Jewish Holocaust Su
 rvivors.  Following graduation from The University of Connecticut with a B
 SE in Computer Science\, Ron worked as an engineer for close to 40 years. 
  Moving to the Nashua area 35 years ago\, Ron has been a SNHJMC member for
  many years.  Ron&rsquo\;s keen interest in history\, especially when it r
 elates to his family&rsquo\;s experiences dates to 2017 when he learned th
 at a pendent belonging to one of his...
DTSTART;TZID=America/New_York:20220515T093000
DTEND;TZID=America/New_York:20220515T113000
END:VEVENT
END:VCALENDAR
