BEGIN:VCALENDAR
PRODID:-//eluceo/ical//2.0/EN
VERSION:2.0
CALSCALE:GREGORIAN
BEGIN:VEVENT
UID:27a0d5c21bd61aba5ab7bba61ce1c6e2
DTSTAMP:20260422T235019Z
SUMMARY:History of Jews in Baghdad
DESCRIPTION:Jewish Federation of New Hampshire\nCommunity Calendar\nhttps:/
 /jewishnh.org/community-calendar/history-of-jews-in-baghdad-1578443927\n\n
 The presentation will include: \n- A very general history of the Middle Ea
 st\, and more specifically about Iraq and the Jewish community\n-Antisemit
 ism in Iraq\n- Shina family history and Iraq Jewish Heritage\n-Archived st
 ories of Uncle Salman\, Sisters Gladys\, Lily\, and Vivien\n-Redemption an
 d reconnecting with family
DTSTART;TZID=America/New_York:20200123T180000
DTEND;TZID=America/New_York:20200123T200000
END:VEVENT
END:VCALENDAR
