BEGIN:VCALENDAR
PRODID:-//eluceo/ical//2.0/EN
VERSION:2.0
CALSCALE:GREGORIAN
BEGIN:VEVENT
UID:bf930d22c05229cea76ed7e990cf4ff1
DTSTAMP:20260424T043943Z
SUMMARY:Holocaust Survivors and Remberance Planning Group - First Meeting
DESCRIPTION:Jewish Federation of New Hampshire\nCommunity Calendar\nhttps:/
 /jewishnh.org/community-calendar/holocaust-survivors-and-remberance-planni
 ng-group---first-meeting-1627334078\n\nThis is the first meeting of the Ho
 locaust Survivors and Remembrance Planning Group. If you would like to joi
 n\, please contact Dina Michael Chaitowitz at dmichaelchaitowitz@gmail.com
 . The meeting is being held via Zoom.
DTSTART;TZID=America/New_York:20210816T110000
DTEND;TZID=America/New_York:20210816T120000
END:VEVENT
END:VCALENDAR
