BEGIN:VCALENDAR
PRODID:-//eluceo/ical//2.0/EN
VERSION:2.0
CALSCALE:GREGORIAN
BEGIN:VEVENT
UID:013d494285e58597fb78b3990e3871fe
DTSTAMP:20260422T171239Z
SUMMARY:Holocaust/Genocide Education 603 - An Intro to NH's New Education A
 ct
DESCRIPTION:Jewish Federation of New Hampshire\nCommunity Calendar\nhttps:/
 /jewishnh.org/community-calendar/holocaustgenocide-education-603-intro-to-
 requirements-of-nhs-new-holocaust-genocide-education-act\n\nThis 1 1/2 hou
 r virtual program will introduce the audience to New Hampshire's new law a
 nd provide them with helpful information on how its mandates can be accomp
 lished. The program will feature Jesse Tannetta\, Operations and Outreach 
 Manager\, Echoes & Reflections\; Tom White\, Coordinator of Educational Ou
 treach\, Cohen Center for Holocaust and Genocide Studies\; and Ashley Harb
 el\, a Sanborn High School teacher who has taught Holocaust studies and ha
 s been appointed to serve on the Commission.\n...
DTSTART;TZID=America/New_York:20201108T160000
DTEND;TZID=America/New_York:20201108T180000
END:VEVENT
END:VCALENDAR
