BEGIN:VCALENDAR
PRODID:-//eluceo/ical//2.0/EN
VERSION:2.0
CALSCALE:GREGORIAN
BEGIN:VEVENT
UID:9e5f364e67309e3574f6a162c452d788
DTSTAMP:20260422T195222Z
SUMMARY:Home Depot Menorah Building Workshop
DESCRIPTION:Jewish Federation of New Hampshire\nCommunity Calendar\nhttps:/
 /jewishnh.org/community-calendar/home-depot-menorah-building-workshop-1636
 735968\n\nJoin us for our Menorah workshop and Build and decorate your own
  Menorah at the Jewish Center.\nSunday Nov 21 11 AM\nA mix of craftsmanshi
 p and art\, children will create masterpieces at this workshop.\nFree even
 t! Sponsored by the Home Depot\, space is limited\, RSVP required at Jewis
 hSeacoast.com/HomeDepot
DTSTART;TZID=America/New_York:20211121T110000
DTEND;TZID=America/New_York:20211121T120000
END:VEVENT
END:VCALENDAR
