BEGIN:VCALENDAR
PRODID:-//eluceo/ical//2.0/EN
VERSION:2.0
CALSCALE:GREGORIAN
BEGIN:VEVENT
UID:4a3f5d9db4e8aa7d2fa643805d07cc44
DTSTAMP:20260422T202728Z
SUMMARY:Honey Cake Baking Session with the Shlicha!
DESCRIPTION:Jewish Federation of New Hampshire\nCommunity Calendar\nhttps:/
 /jewishnh.org/community-calendar/honey-cake-baking-session-with-the-shlich
 a\n\nJoin NH Shlicha Avia Sagron for a Virtual Honey Cake Baking Session!\
 n\nWe will deliver all of the ingredients to you ahead of time. All you ne
 ed to do is log on and bake together with the other participants.\n\n8 par
 ticipant limit. $10/person\n\nSign up here https://forms.gle/C5WpvUZmVpAd
 ZWv56
DTSTART;TZID=America/New_York:20200916T190000
DTEND;TZID=America/New_York:20200916T210000
END:VEVENT
END:VCALENDAR
