BEGIN:VCALENDAR
PRODID:-//eluceo/ical//2.0/EN
VERSION:2.0
CALSCALE:GREGORIAN
BEGIN:VEVENT
UID:7407ceb9a77755d595188d5e26b397ee
DTSTAMP:20260422T082504Z
SUMMARY:How Israeli PBS Changed Israeli Public TV
DESCRIPTION:Jewish Federation of New Hampshire\nCommunity Calendar\nhttps:/
 /jewishnh.org/community-calendar/how-israeli-pbs-changed-israeli-public-tv
 -1672596223\n\nRa’anan de Haas\, JFNH Israeli Shaliach. Learn about the 
 history of Israeli public broadcasting and its eventual downfall\, rebirth
 \, and effect on other networks.\n\nThis program is part of Etz Hayim Syna
 gogue’s Adult Continuing Education Program  Hot Topics and Cool Contemp
 orary Stuff  More information\, please contact: Stephen Soreff\, MD\, at 
 soreffs15@aol.com or 603-895-6120
DTSTART;TZID=America/New_York:20230223T190000
DTEND;TZID=America/New_York:20230223T210000
END:VEVENT
END:VCALENDAR
