BEGIN:VCALENDAR
PRODID:-//eluceo/ical//2.0/EN
VERSION:2.0
CALSCALE:GREGORIAN
BEGIN:VEVENT
UID:0f1a1aeccf0436d843c092e5a80ed57d
DTSTAMP:20260423T232830Z
SUMMARY:How the Jewish People of Denmark were saved in WW2
DESCRIPTION:Jewish Federation of New Hampshire\nCommunity Calendar\nhttps:/
 /jewishnh.org/community-calendar/how-the-jewish-people-of-denmark-were-sav
 ed-in-ww2-1773016107\n\nIn World War II Hitler set out to exterminate the 
 Jews in occupied Europe. Sadly he did so in many of those countries. Howev
 er\, Denmark saved 95% of it Jews. This talk describes it achieved this. W
 ednesday\, March 11\, 2026 10 AM at the Blaisdell Memorial Library\, 129 S
 tage Rd\, Nottingham\, NH 03290. as part of its Coffee Hour Program\, Step
 hen Soreff\, MD will present “How the Jewish People of Denmark were save
 d in WW2 “. It free and open to the public.
DTSTART;TZID=America/New_York:20260311T100000
DTEND;TZID=America/New_York:20260311T110000
END:VEVENT
END:VCALENDAR
