BEGIN:VCALENDAR
PRODID:-//eluceo/ical//2.0/EN
VERSION:2.0
CALSCALE:GREGORIAN
BEGIN:VEVENT
UID:19193cf084fbc9b51bd53cb04f1bb0d3
DTSTAMP:20260423T231522Z
SUMMARY:"How to Avoid Needing a Cardiologist"
DESCRIPTION:Jewish Federation of New Hampshire\nCommunity Calendar\nhttps:/
 /jewishnh.org/community-calendar/how-to-avoid-needing-a-cardiologist-15837
 89926\n\nThe cost for breakfast is $8.00 for Men’s Club members and $12 
 for non-members. For more information\, and to RSVP for breakfast (please)
 \, email mailto:breakfastrsvp@snhjmc.org
DTSTART;TZID=America/New_York:20200419T093000
DTEND;TZID=America/New_York:20200419T113000
END:VEVENT
END:VCALENDAR
