BEGIN:VCALENDAR
PRODID:-//eluceo/ical//2.0/EN
VERSION:2.0
CALSCALE:GREGORIAN
BEGIN:VEVENT
UID:68ff853c8840d6ee240f3c18ab89a059
DTSTAMP:20260422T200159Z
SUMMARY:How To Be President
DESCRIPTION:Jewish Federation of New Hampshire\nCommunity Calendar\nhttps:/
 /jewishnh.org/community-calendar/how-to-be-president-1550854545\n\n"How To
  Be President"\nClergy-Led Candidate Interview #1:\nFormer U.S. Rep. John 
 Delaney (D-MD)\n\nHow does one person go about holding the power of life a
 nd death\, in familiar places and all over the world?\n\nHow can you know 
 enough about enough issues\, and enough about how to rely on people who kn
 ow far more than you on many of them?\n\nWhat is it like to try to be a pe
 rson of integrity in a role where moral ambiguity and sheer uncertainty ar
 e persuasive?\n\nHow does one deal with regular ...
DTSTART;TZID=America/New_York:20190304T190000
DTEND;TZID=America/New_York:20190304T200000
END:VEVENT
END:VCALENDAR
