BEGIN:VCALENDAR
PRODID:-//eluceo/ical//2.0/EN
VERSION:2.0
CALSCALE:GREGORIAN
BEGIN:VEVENT
UID:5a0ac148988bafd66a7f3385fdbcd22c
DTSTAMP:20260423T050114Z
SUMMARY:How to Have Difficult (But Faithful) Conversations
DESCRIPTION:Jewish Federation of New Hampshire\nCommunity Calendar\nhttps:/
 /jewishnh.org/community-calendar/how-to-have-difficult-but-faithful-conver
 sations-1617215155\n\nMembers of Jewish\, Catholic\, Protestant and other 
 faith communities of New Hampshire invite you to a conversation about our 
 faiths and race relations. This online program follows-up to three earlier
  online conversations on faith and racial inequities in December and Janua
 ry.\nThe subject of this meeting is techniques for having difficult conver
 sations about race within our faith communities and with others based our 
 faith. Our speakers will draw guidance from the book Difficult...
DTSTART;TZID=America/New_York:20210421T180000
DTEND;TZID=America/New_York:20210421T193000
END:VEVENT
END:VCALENDAR
