BEGIN:VCALENDAR
PRODID:-//eluceo/ical//2.0/EN
VERSION:2.0
CALSCALE:GREGORIAN
BEGIN:VEVENT
UID:ce77f7f30c0107d8cf985e8b35a50d59
DTSTAMP:20260424T171645Z
SUMMARY:How to Have Difficult Conversations Part II
DESCRIPTION:Jewish Federation of New Hampshire\nCommunity Calendar\nhttps:/
 /jewishnh.org/community-calendar/how-to-have-difficult-conversations-part-
 ii-1620594549\n\nThe Interfaith Commmunity Collaborative (including JFNH\,
  the NH Council of Churches\, the Diocese of Manchester\, the Cohen Center
  for Holocaust and Genocide Studies\,  and St. Anselm&#039\;s College) is 
 continuing its programming this month with a second session on how to have
  difficult conversations.  More information to follow.  For now\, please s
 ave the date.   THIS WILL BE A ZOOM EVENT. 
DTSTART;TZID=America/New_York:20210520T180000
DTEND;TZID=America/New_York:20210520T193000
END:VEVENT
END:VCALENDAR
