BEGIN:VCALENDAR
PRODID:-//eluceo/ical//2.0/EN
VERSION:2.0
CALSCALE:GREGORIAN
BEGIN:VEVENT
UID:e92e050b2eb2b56aa581171350d8d43a
DTSTAMP:20260424T061852Z
SUMMARY:How to transition to a healthy\, plant-based lifestyle
DESCRIPTION:Jewish Federation of New Hampshire\nCommunity Calendar\nhttps:/
 /jewishnh.org/community-calendar/how-to-transition-to-a-healthy-plant-base
 d-lifestyle-1603127734\n\nNovember 1 Sunday  10 AM How to transition to a 
 healthy\, plant-based lifestyle present by\nDavid Riese   David Riese is a
 n Aerospace Engineer with a keen interest in how diet and lifestyle affect
  health. After seeing Dr. Joel Fuhrman’s “Eat to Live” program on PB
 S ten years ago\, he read the book and started following the program. He i
 mmediately experienced weight loss and improved energy and vitality and ha
 s been following the plant-based lifestyle ever since. Mr. Riese will shar
 e his...
DTSTART;TZID=America/New_York:20201101T100000
DTEND;TZID=America/New_York:20201101T120000
END:VEVENT
END:VCALENDAR
