BEGIN:VCALENDAR
PRODID:-//eluceo/ical//2.0/EN
VERSION:2.0
CALSCALE:GREGORIAN
BEGIN:VEVENT
UID:f667cfff4ba6a02f473b6cea4a736671
DTSTAMP:20260423T215042Z
SUMMARY:Etz Hayim Ice Cream Shabbat
DESCRIPTION:Jewish Federation of New Hampshire\nCommunity Calendar\nhttps:/
 /jewishnh.org/community-calendar/ice-cream-shabbat-1688040480\n\nANNUAL IC
 E CREAM SHABBAT at Etz Hayim Synagogue
DTSTART;TZID=America/New_York:20230714T191500
DTEND;TZID=America/New_York:20230714T210000
END:VEVENT
END:VCALENDAR
