BEGIN:VCALENDAR
PRODID:-//eluceo/ical//2.0/EN
VERSION:2.0
CALSCALE:GREGORIAN
BEGIN:VEVENT
UID:fa7c243076690b98a300d7530a4c4749
DTSTAMP:20260421T225036Z
SUMMARY:Congregation Betenu Ice Cream Social
DESCRIPTION:Jewish Federation of New Hampshire\nCommunity Calendar\nhttps:/
 /jewishnh.org/community-calendar/ice-cream-social-1692230245\n\nJoin Congr
 egation Betenu as they welcome their new Spiritual Leader Rayden Marcum. R
 ayden will conduct his first official service at Betenu\, followed by an i
 ce cream social.
DTSTART;TZID=America/New_York:20230908T193000
DTEND;TZID=America/New_York:20230908T210000
END:VEVENT
END:VCALENDAR
