BEGIN:VCALENDAR
PRODID:-//eluceo/ical//2.0/EN
VERSION:2.0
CALSCALE:GREGORIAN
BEGIN:VEVENT
UID:2716bcf7586beedd37dabcdb7932305d
DTSTAMP:20260423T083826Z
SUMMARY:“Identifying Contemporary Antisemitism: The QAnon Conspiracy Frau
 d
DESCRIPTION:Jewish Federation of New Hampshire\nCommunity Calendar\nhttps:/
 /jewishnh.org/community-calendar/identifying-contemporary-antisemitism-the
 -qanon-conspiracy-fraud-1616550342\n\nTom White will present “Identifyin
 g Contemporary Antisemitism: The QAnon Conspiracy Fraud”   Thursday Apri
 l  8\, 2021  7 PM  by Zoom  
DTSTART;TZID=America/New_York:20210408T190000
DTEND;TZID=America/New_York:20210408T210000
END:VEVENT
END:VCALENDAR
