BEGIN:VCALENDAR
PRODID:-//eluceo/ical//2.0/EN
VERSION:2.0
CALSCALE:GREGORIAN
BEGIN:VEVENT
UID:02db14d3d83889ec67b4a02f0290ca4a
DTSTAMP:20260422T095521Z
SUMMARY:IEE Movie Day: Inventing Our Life: The Kibbutz Experiment
DESCRIPTION:Jewish Federation of New Hampshire\nCommunity Calendar\nhttps:/
 /jewishnh.org/community-calendar/iee-movie-day-inventing-our-life-the-kibb
 utz-experiment\n\nIsraeli Education and Engagement committee presents "Inv
 enting Our Life: The Kibbutz Experiment"\npart of the 2022 JFNH Israel Ed
 ucation and Engagement Committee’s Spotlight on Israel Film Series\n\n"I
 nventing Our Life" is a 2010 documentary that examines the 100 year histo
 ry of Israel's kibbutz movement\, one of the world's longest running and m
 ost successful experiments in pure communism. Recreating its glorious past
  and chronicling its recent decline\, Inventing Our Life focuses on the h.
 ..
DTSTART;TZID=America/New_York:20221117T130000
DTEND;TZID=America/New_York:20221117T150000
END:VEVENT
END:VCALENDAR
