BEGIN:VCALENDAR
PRODID:-//eluceo/ical//2.0/EN
VERSION:2.0
CALSCALE:GREGORIAN
BEGIN:VEVENT
UID:00b06e9f65d3b1de235f40bbb6f7bf90
DTSTAMP:20260422T173325Z
SUMMARY:IEE Movie Day: Starting Over Again
DESCRIPTION:Jewish Federation of New Hampshire\nCommunity Calendar\nhttps:/
 /jewishnh.org/community-calendar/iee-movie-day-starting-over-again\n\nIsra
 eli Education and Engagement committee presents "Starting Over Again"\npar
 t of the 2022 JFNH Israel Education and Engagement Committee’s Spotligh
 t on Israel Film Series\n\nStarting Over Again is a 2015 documentary film.
   The film is about the exodus of the Jews of Egypt between 1948 and 195
 6. Filming took place in Paris\, London\, Milan\, New York City\, Washingt
 on\, Tel Aviv\, and Jerusalem\, starting in 2014. The documentary has been
  officially selected at the Jerusalem Film Festival of 2...
DTSTART;TZID=America/New_York:20221020T130000
DTEND;TZID=America/New_York:20221020T150000
END:VEVENT
END:VCALENDAR
