BEGIN:VCALENDAR
PRODID:-//eluceo/ical//2.0/EN
VERSION:2.0
CALSCALE:GREGORIAN
BEGIN:VEVENT
UID:5310d4d25289585d6c3bb3a0f93e7832
DTSTAMP:20260425T133733Z
SUMMARY:Immigration 101
DESCRIPTION:Jewish Federation of New Hampshire\nCommunity Calendar\nhttps:/
 /jewishnh.org/community-calendar/immigration-101-1553875621\n\nAre you cur
 ious about the immigrant's journey to the US? Get the story from two New H
 ampshire immigrants who now work for Granite State Organizing Project. The
 y will explain the history of US immigration policy and how our current pr
 oblems are solved.\n\nAll are welcome to listen and ask questions about th
 is important topic.\n\nNo RSVP required.
DTSTART;TZID=America/New_York:20190401T190000
DTEND;TZID=America/New_York:20190401T200000
END:VEVENT
END:VCALENDAR
