BEGIN:VCALENDAR
PRODID:-//eluceo/ical//2.0/EN
VERSION:2.0
CALSCALE:GREGORIAN
BEGIN:VEVENT
UID:50ad5f32e75796d99ceccf819d68a1ea
DTSTAMP:20260423T084740Z
SUMMARY:“Instilling Jewish Pride in the Next Generation”
DESCRIPTION:Jewish Federation of New Hampshire\nCommunity Calendar\nhttps:/
 /jewishnh.org/community-calendar/instilling-jewish-pride-in-the-next-gener
 ation-1574727354\n\nLisa Adams\, Leslie Kirshman and Amy Levy will talk ab
 out If we cannot instill Jewish pride in our next generation\, then there 
 will be no one left to carry on our tradition and face our future challeng
 es. We'll discuss some of the ways to help you instill Jewish Pride for yo
 ur family\, including knowledge (and how to make that fun)\, brotherhood/s
 isterhood\, and way to inspire courage to be a Jew (as we know it is not a
 lways easy or convenient for young folks to be/feel different).
DTSTART;TZID=America/New_York:20200206T190000
DTEND;TZID=America/New_York:20200206T203000
END:VEVENT
END:VCALENDAR
