BEGIN:VCALENDAR
PRODID:-//eluceo/ical//2.0/EN
VERSION:2.0
CALSCALE:GREGORIAN
BEGIN:VEVENT
UID:8bd4292a042287073ccbbfb99a2759d7
DTSTAMP:20260425T042203Z
SUMMARY:Interfaith Candle-lighting
DESCRIPTION:Jewish Federation of New Hampshire\nCommunity Calendar\nhttps:/
 /jewishnh.org/community-calendar/interfaith-candle-lighting-1636403160\n\n
 Please join Temple Israel\, Portsmouth and members of the Portsmouth Minis
 terium in the temple's garden courtyard on the fifth night of Hanukkah to 
 light candles in the "Hands of Hope" menorah.
DTSTART;TZID=America/New_York:20211202T173000
DTEND;TZID=America/New_York:20211202T183000
END:VEVENT
END:VCALENDAR
