BEGIN:VCALENDAR
PRODID:-//eluceo/ical//2.0/EN
VERSION:2.0
CALSCALE:GREGORIAN
BEGIN:VEVENT
UID:3bdb879ff45913327e522ab04fabc757
DTSTAMP:20260425T165126Z
SUMMARY:Interfaith Candle Lighting
DESCRIPTION:Jewish Federation of New Hampshire\nCommunity Calendar\nhttps:/
 /jewishnh.org/community-calendar/interfaith-candle-lighting-1668115885\n\n
 Please join Temple Israel Portsmouth in the garden courtyard on the fifth 
 night of Hanukkah to light candles in the "Hands of Hope" menorah created 
 by sculptor Sumner Winebaum.\n\nRabba Kaya Stern-Kaufman will lead an inte
 rfaith group in prayer and song.\n\nto register: https://templeisraelnh.sh
 ulcloud.com/event/interfaith-candle-lighting.html
DTSTART;TZID=America/New_York:20221222T173000
DTEND;TZID=America/New_York:20221222T183000
END:VEVENT
END:VCALENDAR
