BEGIN:VCALENDAR
PRODID:-//eluceo/ical//2.0/EN
VERSION:2.0
CALSCALE:GREGORIAN
BEGIN:VEVENT
UID:089b9c4f34422440695b5ecf197a01c5
DTSTAMP:20260423T125823Z
SUMMARY:Interfaith Candle-Lighting
DESCRIPTION:Jewish Federation of New Hampshire\nCommunity Calendar\nhttps:/
 /jewishnh.org/community-calendar/interfaith-candle-lighting-1699625529\n\n
 Please join Temple Israel and members of the Portsmouth Ministerium in the
  temple courtyard to light candles in the bronze "Hands of Hope" menorah
 .\n\nJonny Peiffer and Rabba Kaya Stern-Kaufman will lead an interfaith gr
 oup in prayer and song\, followed by refreshments in the Shmoozatorium.
DTSTART;TZID=America/New_York:20231214T173000
DTEND;TZID=America/New_York:20231214T190000
END:VEVENT
END:VCALENDAR
