BEGIN:VCALENDAR
PRODID:-//eluceo/ical//2.0/EN
VERSION:2.0
CALSCALE:GREGORIAN
BEGIN:VEVENT
UID:6198b117b6ca16e6c5862af2609997d9
DTSTAMP:20260422T154935Z
SUMMARY:Interfaith Peacebuilding Initiatives in Israel - Palestine and the 
 US
DESCRIPTION:Jewish Federation of New Hampshire\nCommunity Calendar\nhttps:/
 /jewishnh.org/community-calendar/interfaith-peacebuilding-initiatives-in-i
 srael---palestine-and-the-us-1614712147\n\nPlease join our guest\, Dr. Yeh
 ezkel Landau\, for a conversation about Israel from an interfaith viewpoin
 t\, with references to inter-religious peace building initiatives in both 
 Israel/Palestine and here in the U.S. Sponsored by the Israel Affairs Comm
 ittee in celebration of Yom Ha-Atzma'ut\, Israel Independence Day. Registe
 r on the Temple Israel website calendar to receive the Zoom link.\n\nAbout
  the speaker: Dr. Yehezkel Landau\, a dual Israeli-American citizen\, is a
 n interfaith educator\, train...
DTSTART;TZID=America/New_York:20210415T190000
DTEND;TZID=America/New_York:20210415T200000
END:VEVENT
END:VCALENDAR
