BEGIN:VCALENDAR
PRODID:-//eluceo/ical//2.0/EN
VERSION:2.0
CALSCALE:GREGORIAN
BEGIN:VEVENT
UID:8a72009c1a30de563d4805c9850be28c
DTSTAMP:20260422T050125Z
SUMMARY:Interfaith Thanksgiving Service
DESCRIPTION:Jewish Federation of New Hampshire\nCommunity Calendar\nhttps:/
 /jewishnh.org/community-calendar/interfaith-thanksgiving-service-169733480
 3\n\nEtz Hayim Synagogue and the Church of the Transfiguration not only sh
 are an interfaith campus but also work together on many activities. These 
 include Elijah’s Table and Interfaith Trips to Israel. One of the major 
 events of this collaboration is the annual Interfaith Thanksgiving Service
 . The site and sermon alternate between the two.  This year Rabbi Peter Le
 vy will lead the service at Etz Hayim Synagogue\, and Reverend Ray Bonin w
 ill deliver the sermon. This service is of particular...
DTSTART;TZID=America/New_York:20231121T191500
DTEND;TZID=America/New_York:20231121T210000
END:VEVENT
END:VCALENDAR
